BEGIN:VCALENDAR
VERSION:2.0
PRODID:-//AudioTheme 2.3.4
BEGIN:VEVENT
UID:urn:uuid:aaeb9cfa-7f53-4222-88f1-f8ae6a13ed95
URL:http://maitebeaumont.com/shows/orquesta-sinfonica-y-coro-rtve-atlantida-de-falla-sonia-de-munck-reina-isabel-maite-beaumont-pirene-adam-kutny-corifeo-director-christoph-koenig-coro-de-ninos-de-la-comunidad-de-2/
DTSTART;VALUE=DATE:20260515
SUMMARY:Orquesta Sinfónica y Coro RTVE “Atlántida” de Falla Sonia De Munck, Reina Isabel Maite Beaumont, Pirene Adam Kutny, Corifeo Director: Christoph König Coro de Niños de la Comunidad de Madrid
LOCATION:Teatro Monumental\, Madrid\, 
END:VEVENT
END:VCALENDAR
